BEGIN:VCALENDAR
VERSION:2.0
PRODID:-//hacksw/handcal//NONSGML v1.0//EN
BEGIN:VEVENT
DTSTAMP:20261011T010000Z
DTSTART:20261011T010000Z
DTEND:20261011T030000Z
SUMMARY:Killers Of Kill Tony
DESCRIPTION:Killers of Kill Tony are bringing their comedy performance to Pikes Peak Center on Saturday, October 10, 2026 at 7:00pm! Tickets go on sale on Friday, March 13, at 10am and are available online at AXS.com or in person at the Pikes Peak Center box office.Want the venue presale code? Subscribe to The Backstage Pass newsletter by Tuesday, 3/10, at 5pm Sign up located at PikesPeakCenter.com/NewsletterAbout Killers of Kill Tony"Killers of Kill Tony" is a standup lineup featuring regulars and fan-favorites from "Kill Tony", the #1 live podcast in the world.Building upon the success and energy of the original podcast, "Killers of Kill Tony" showcases the diverse talent pool of comedians who have graced the stage of "Kill Tony" with their wit, humor, and unique comedic styles. Don&#39;t miss some of your favorite characters doing their longer standup sets all in one night. .embed-container { position: relative; padding-bottom: 56.25%; height: 0; overflow: hidden; max-width: 100%; } .embed-container iframe, .embed-container object, .embed-container embed { position: absolute; top: 0; left: 0; width: 100%; height: 100%; }
END:VEVENT
END:VCALENDAR